BEGIN:VCALENDAR
VERSION:2.0
PRODID:-//Fahrplan Anerkennung beruflicher Abschlüsse Plus - ECPv6.6.0.2//NONSGML v1.0//EN
CALSCALE:GREGORIAN
METHOD:PUBLISH
X-WR-CALNAME:Fahrplan Anerkennung beruflicher Abschlüsse Plus
X-ORIGINAL-URL:https://anerkennung-berufsqualifikationen-ua.de
X-WR-CALDESC:Events for Fahrplan Anerkennung beruflicher Abschlüsse Plus
REFRESH-INTERVAL;VALUE=DURATION:PT1H
X-Robots-Tag:noindex
X-PUBLISHED-TTL:PT1H
BEGIN:VTIMEZONE
TZID:Europe/Berlin
BEGIN:DAYLIGHT
TZOFFSETFROM:+0100
TZOFFSETTO:+0200
TZNAME:CEST
DTSTART:20260329T010000
END:DAYLIGHT
BEGIN:STANDARD
TZOFFSETFROM:+0200
TZOFFSETTO:+0100
TZNAME:CET
DTSTART:20261025T010000
END:STANDARD
END:VTIMEZONE
BEGIN:VEVENT
DTSTART;TZID=Europe/Berlin:20260120T100000
DTEND;TZID=Europe/Berlin:20260120T120000
DTSTAMP:20260419T164716
CREATED:20260119T110911Z
LAST-MODIFIED:20260119T111621Z
UID:4133-1768903200-1768910400@anerkennung-berufsqualifikationen-ua.de
SUMMARY:Online. Uni- oder Hochschuldiplom
DESCRIPTION:Am 20. Januar 2026 von 10.00 bis 12.00 Uhr findet eine Online-Gruppenberatung zum Thema „Anerkennung ausländischer Hochschulabschlüsse“ statt. Die Veranstaltung wird mittels ZOOM-Kommunikationsplattform durchgeführt. Die Teilnahme ist kostenlos. Eine Anmeldung ist erforderlich. \n\n\n\nIn der Beratung werden die Fragen erläutert:   \n\n\n\n\nWelche Unterschiede gibt es zwischen Anerkennung und Bewertung?  \n\n\n\nWie lässt man ein Hochschuldiplom in Deutschland anerkennen? Oder doch bewerten?  \n\n\n\nIst es möglich\, selbst herauszufinden\, ob einer Abschluss anerkannt werden kann? \n\n\n\n\nDie Beraterin wird die Fragen der Teilnehmer*innen beantworten.   \n\n\n\nDie Anmeldung zur Veranstaltung erfolgt über den Link\, der Anmeldeschluss ist am Vortag der Veranstaltung (ca. 24 Stunden vor der Veranstaltung).  \n\n\n\nAchtung! Der ZOOM-Teilnahmelink wird auf die E-Mail Adresse versendet\, die bei der Anmeldung angegeben wurde.  \n\n\n\nDie Online-Beratungen finden im Rahmen des Moduls „Überregionales Kompetenzzentrum zur Anerkennung ukrainischer Berufsabschlüsse“ des Projektes „Fahrplan Anerkennung beruflicher Abschlüsse Plus II“ – FAbA + II – statt.  \n\n\n\n\n\n\n\n\n\n\n	\n		\n		FacebookTwitterLinkedInRedditWhatsappTumblrPinterestVkEmail
URL:https://anerkennung-berufsqualifikationen-ua.de/event/online-uni-oder-hochschuldiplom-33/
ATTACH;FMTTYPE=image/jpeg:https://anerkennung-berufsqualifikationen-ua.de/wp-content/uploads/2024/11/faba_29-24-of-30.jpg
END:VEVENT
BEGIN:VEVENT
DTSTART;TZID=Europe/Berlin:20260121T140000
DTEND;TZID=Europe/Berlin:20260121T160000
DTSTAMP:20260419T164716
CREATED:20260119T111204Z
LAST-MODIFIED:20260119T111321Z
UID:4136-1769004000-1769011200@anerkennung-berufsqualifikationen-ua.de
SUMMARY:Online. Mediziner (akademisch)
DESCRIPTION:Am 21. Januar 2026 von 14.00 bis 16.00 Uhr findet eine Online-Gruppenberatung zum Thema „Anerkennung von akademischen medizinischen Berufen“ statt. Die Veranstaltung wird mittels ZOOM-Kommunikationsplattform durchgeführt. Die Teilnahme ist kostenlos. Eine Anmeldung ist erforderlich.   \n\n\n\nIn der Beratung werden die Fragen erläutert:   \n\n\n\n\nWas ist für die Anerkennung notwendig und wie läuft der Prozess ab?\n\n\n\nWer ist für die Anerkennung zuständig?\n\n\n\nWelche Ergebnisse sind zu erwarten?\n\n\n\n\nDie Beraterin wird die Fragen der Teilnehmer*innen beantworten.   \n\n\n\nDie Anmeldung zur Veranstaltung erfolgt über den Link\, der Anmeldeschluss ist am Vortag der Veranstaltung (ca. 24 Stunden vor der Veranstaltung).  \n\n\n\nAchtung! Der ZOOM-Teilnahmelink wird auf die E-Mail Adresse versendet\, die bei der Anmeldung angegeben wurde.  \n\n\n\nDie Online-Beratungen finden im Rahmen des Moduls „Überregionales Kompetenzzentrum zur Anerkennung ukrainischer Berufsabschlüsse“ des Projektes „Fahrplan Anerkennung beruflicher Abschlüsse Plus II“ – FAbA + II – statt.  \n\n\n\n\n\n\n\n\n\n\n	\n		\n		FacebookTwitterLinkedInRedditWhatsappTumblrPinterestVkEmail
URL:https://anerkennung-berufsqualifikationen-ua.de/event/online-mediziner-akademisch-15/
ATTACH;FMTTYPE=image/jpeg:https://anerkennung-berufsqualifikationen-ua.de/wp-content/uploads/2025/10/faba_anerkennung.jpg
END:VEVENT
BEGIN:VEVENT
DTSTART;TZID=Europe/Berlin:20260121T160000
DTEND;TZID=Europe/Berlin:20260121T180000
DTSTAMP:20260419T164716
CREATED:20260119T112021Z
LAST-MODIFIED:20260119T141557Z
UID:4143-1769011200-1769018400@anerkennung-berufsqualifikationen-ua.de
SUMMARY:Online. Lehrer*innen 
DESCRIPTION:Am 21. Januar 2026 von 16.00 bis 18.00 Uhr findet eine Online-Gruppenberatung zum Thema „Anerkennung für Lehrer*innen“ statt. Die Veranstaltung wird mittels ZOOM-Kommunikationsplattform durchgeführt. Die Teilnahme ist kostenlos. Eine Anmeldung ist erforderlich. Die Sprache der Veranstaltung ist Russisch.  \n\n\n\nIn der Beratung werden die Fragen erläutert:   \n\n\n\n\nWas sind die Anforderungen bei der Lehreranerkennung und wie läuft das Verfahren ab? \n\n\n\nWie findet man die zuständige Stelle heraus? \n\n\n\nWelche Möglichkeiten für die pädagogische Arbeit sind ohne Anerkennung gegeben? \n\n\n\n\nDie Beraterin wird die Fragen der Teilnehmer*innen beantworten.   \n\n\n\nDie Anmeldung zur Veranstaltung erfolgt über den Link\, der Anmeldeschluss ist am Vortag der Veranstaltung (ca. 24 Stunden vor der Veranstaltung).  \n\n\n\nAchtung! Der ZOOM-Teilnahmelink wird auf die E-Mail Adresse versendet\, die bei der Anmeldung angegeben wurde.  \n\n\n\nDie Online-Beratungen finden im Rahmen des Moduls „Überregionales Kompetenzzentrum zur Anerkennung ukrainischer Berufsabschlüsse“ des Projektes „Fahrplan Anerkennung beruflicher Abschlüsse Plus II“ – FAbA + II – statt.  \n\n\n\n\n\n\n\n\n\n\n	\n		\n		FacebookTwitterLinkedInRedditWhatsappTumblrPinterestVkEmail
URL:https://anerkennung-berufsqualifikationen-ua.de/event/online-lehrerinnen-12/
ATTACH;FMTTYPE=image/jpeg:https://anerkennung-berufsqualifikationen-ua.de/wp-content/uploads/2024/09/heisser-august.jpg
END:VEVENT
BEGIN:VEVENT
DTSTART;TZID=Europe/Berlin:20260123T090000
DTEND;TZID=Europe/Berlin:20260123T110000
DTSTAMP:20260419T164716
CREATED:20260119T112344Z
LAST-MODIFIED:20260119T124934Z
UID:4145-1769158800-1769166000@anerkennung-berufsqualifikationen-ua.de
SUMMARY:Berlin. Uni- oder Hochschuldiplom
DESCRIPTION:Am 23. Januar 2026 von 09.00 bis 11.00 Uhr findet in Berlin eine Gruppenberatung zum Thema «Anerkennung ausländischer Hochschulabschlüsse» statt. Die Teilnahme ist kostenlos. Eine Anmeldung ist erforderlich. Die Sprache der Veranstaltung ist Russisch.   \n\n\n\nIn der Beratung werden die Fragen erläutert:   \n\n\n\n\nWelche Unterschiede gibt es zwischen Anerkennung und Bewertung?  \n\n\n\nWie lässt man ein Hochschuldiplom in Deutschland anerkennen? Oder doch bewerten?  \n\n\n\nIst es möglich\, selbst herauszufinden\, ob einer Abschluss anerkannt werden kann? \n\n\n\n\nDie Beraterin wird die Fragen der Teilnehmer*innen beantworten.   \n\n\n\nDie Anmeldung zur Veranstaltung erfolgt über den Link\, der Anmeldeschluss ist am Vortag der Veranstaltung (ca. 24 Stunden vor der Veranstaltung).  \n\n\n\nAchtung! Die Information zur Teilnahme an der Veranstaltung wird auf die E-Mail Adresse versendet\, die bei der Anmeldung angegeben wurde.  \n\n\n\nDie Beratungen finden im Rahmen des Projektes „Fahrplan Anerkennung beruflicher Abschlüsse Plus II“ – FabA+ II – statt.  \n\n\n\n\n\n\n\n\n\n\n	\n		\n		FacebookTwitterLinkedInRedditWhatsappTumblrPinterestVkEmail
URL:https://anerkennung-berufsqualifikationen-ua.de/event/berlin-uni-oder-hochschuldiplom-5/
ATTACH;FMTTYPE=image/jpeg:https://anerkennung-berufsqualifikationen-ua.de/wp-content/uploads/2024/08/IMG_2351-scaled.jpg
END:VEVENT
BEGIN:VEVENT
DTSTART;TZID=Europe/Berlin:20260126T100000
DTEND;TZID=Europe/Berlin:20260126T120000
DTSTAMP:20260419T164716
CREATED:20260119T115824Z
LAST-MODIFIED:20260119T123504Z
UID:4153-1769421600-1769428800@anerkennung-berufsqualifikationen-ua.de
SUMMARY:Online. Soz.-Päd. Berufe
DESCRIPTION:26. Januar 2026 von 10.00 bis 12.00 Uhr findet eine Online-Gruppenberatung zum Thema „Anerkennung von Abschlüssen in sozialpädagogischen Berufen“ statt. Die Veranstaltung wird mittels ZOOM-Kommunikationsplattform durchgeführt. Die Teilnahme ist kostenlos. Eine Anmeldung ist erforderlich. Die Sprache der Veranstaltung ist Russisch.  \n\n\n\nIn der Beratung werden die Fragen erläutert:   \n\n\n\n\nWelche sozialpädagogischen Referenzberufe gibt es in Deutschland? \n\n\n\nWelche Voraussetzungen und Bedingungen gibt es für die Anerkennung der sozialpädagogischen Berufe? \n\n\n\nWelche Ergebnisse sind bei der Anerkennung zu erwarten? \n\n\n\n\nDie Beraterin wird die Fragen der Teilnehmer*innen beantworten.   \n\n\n\nDie Anmeldung zur Veranstaltung erfolgt über den Link\, der Anmeldeschluss ist am Vortag der Veranstaltung (ca. 24 Stunden vor der Veranstaltung).  \n\n\n\nAchtung! Der ZOOM-Teilnahmelink wird auf die E-Mail Adresse versendet\, die bei der Anmeldung angegeben wurde.  \n\n\n\nDie Online-Beratungen finden im Rahmen des Moduls „Überregionales Kompetenzzentrum zur Anerkennung ukrainischer Berufsabschlüsse“ des Projektes „Fahrplan Anerkennung beruflicher Abschlüsse Plus II“ – FAbA + II – statt.  \n\n\n\n\n\n\n\n\n\n\n	\n		\n		FacebookTwitterLinkedInRedditWhatsappTumblrPinterestVkEmail
URL:https://anerkennung-berufsqualifikationen-ua.de/event/online-soz-paed-berufe-14/
ATTACH;FMTTYPE=image/jpeg:https://anerkennung-berufsqualifikationen-ua.de/wp-content/uploads/2025/01/faba_akton_2.jpg
END:VEVENT
BEGIN:VEVENT
DTSTART;TZID=Europe/Berlin:20260127T150000
DTEND;TZID=Europe/Berlin:20260127T170000
DTSTAMP:20260419T164716
CREATED:20260119T114932Z
LAST-MODIFIED:20260125T132517Z
UID:4149-1769526000-1769533200@anerkennung-berufsqualifikationen-ua.de
SUMMARY:Online. Ingenieur*innen. Architekt*innen
DESCRIPTION:Am 27. Januar 2026 von 15.00 bis 17.00 Uhr findet eine Online-Gruppenberatung zum Thema „Anerkennung für Ingenieur*innen und Architekt*innen“ statt. Die Veranstaltung wird mittels ZOOM-Kommunikationsplattform durchgeführt. Die Teilnahme ist kostenlos. Eine Anmeldung ist erforderlich. Die Sprache der Veranstaltung ist Russisch.  \n\n\n\nIn der Beratung werden die Fragen erläutert:   \n\n\n\n\nMuss ein Ingenieur – oder Architektenabschluss anerkannt werden?  \n\n\n\nWelche Anforderungen gelten für die Anerkennung und wie läuft das Verfahren ab?  \n\n\n\nWelche Ergebnisse der Anerkennung sind zu erwarten? \n\n\n\n\nDie Beraterin wird die Fragen der Teilnehmer*innen beantworten.   \n\n\n\nDie Anmeldung zur Veranstaltung erfolgt über den Link\, der Anmeldeschluss ist am Vortag der Veranstaltung (ca. 24 Stunden vor der Veranstaltung).  \n\n\n\nAchtung! Der ZOOM-Teilnahmelink wird auf die E-Mail Adresse versendet\, die bei der Anmeldung angegeben wurde.  \n\n\n\nDie Online-Beratungen finden im Rahmen des Moduls „Überregionales Kompetenzzentrum zur Anerkennung ukrainischer Berufsabschlüsse“ des Projektes „Fahrplan Anerkennung beruflicher Abschlüsse Plus II“ – FAbA + II – statt.  \n\n\n\n\n\n\n\n\n\n\n	\n		\n		FacebookTwitterLinkedInRedditWhatsappTumblrPinterestVkEmail
URL:https://anerkennung-berufsqualifikationen-ua.de/event/online-ingenieurinnen-architektinnen-10/
ATTACH;FMTTYPE=image/jpeg:https://anerkennung-berufsqualifikationen-ua.de/wp-content/uploads/2024/08/WhatsApp-Image-2024-07-03-at-12.13.58-1.jpeg
END:VEVENT
BEGIN:VEVENT
DTSTART;TZID=Europe/Berlin:20260128T100000
DTEND;TZID=Europe/Berlin:20260128T120000
DTSTAMP:20260419T164716
CREATED:20260119T115334Z
LAST-MODIFIED:20260125T135020Z
UID:4151-1769594400-1769601600@anerkennung-berufsqualifikationen-ua.de
SUMMARY:Online. Mediziner (nicht akademisch)
DESCRIPTION:Am 28. Januar 2026 von 10.00 bis 12.00 Uhr findet eine Online-Gruppenberatung zum Thema „Anerkennung von nicht-akademischen medizinischen Berufen“ statt. Die Veranstaltung wird mittels ZOOM-Kommunikationsplattform durchgeführt. Die Teilnahme ist kostenlos. Eine Anmeldung ist erforderlich. \n\n\n\nIn der Beratung werden die Fragen erläutert:   \n\n\n\n\nWelche Referenzberufe gibt es? \n\n\n\nWie werden im Ausland erworbene medizinische Qualifikationen anerkannt? \n\n\n\nWelche Unterlagen werden für die Beantragung der Anerkennung benötigt und welche Voraussetzungen sind im Rahmen des Anerkennungsverfahrens zu beachten? \n\n\n\nWelche Schwierigkeiten können bei der Anerkennung von Berufsqualifikation auftreten? \n\n\n\n\nDie Beraterin wird die Fragen der Teilnehmer*innen beantworten.   \n\n\n\nDie Anmeldung zur Veranstaltung erfolgt über den Link\, der Anmeldeschluss ist am Vortag der Veranstaltung (ca. 24 Stunden vor der Veranstaltung).  \n\n\n\nAchtung! Der ZOOM-Teilnahmelink wird auf die E-Mail Adresse versendet\, die bei der Anmeldung angegeben wurde.  \n\n\n\nDie Online-Beratungen finden im Rahmen des Moduls „Überregionales Kompetenzzentrum zur Anerkennung ukrainischer Berufsabschlüsse“ des Projektes „Fahrplan Anerkennung beruflicher Abschlüsse Plus II“ – FAbA + II – statt. \n\n\n\n\n\n\n\n\n\n\n	\n		\n		FacebookTwitterLinkedInRedditWhatsappTumblrPinterestVkEmail
URL:https://anerkennung-berufsqualifikationen-ua.de/event/online-mediziner-nicht-akademisch-14/
ATTACH;FMTTYPE=image/jpeg:https://anerkennung-berufsqualifikationen-ua.de/wp-content/uploads/2025/07/faba_anastasia.jpeg
END:VEVENT
BEGIN:VEVENT
DTSTART;TZID=Europe/Berlin:20260128T160000
DTEND;TZID=Europe/Berlin:20260128T180000
DTSTAMP:20260419T164716
CREATED:20260119T114632Z
LAST-MODIFIED:20260119T123021Z
UID:4147-1769616000-1769623200@anerkennung-berufsqualifikationen-ua.de
SUMMARY:Online. Soz.-Päd. Berufe
DESCRIPTION:Am 28. Januar 2026 von 16.00 bis 18.00 Uhr findet eine Online-Gruppenberatung zum Thema „Anerkennung von Abschlüssen in sozialpädagogischen Berufen“ statt. Die Veranstaltung wird mittels ZOOM-Kommunikationsplattform durchgeführt. Die Teilnahme ist kostenlos. Eine Anmeldung ist erforderlich. Die Sprache der Veranstaltung ist Russisch.  \n\n\n\nIn der Beratung werden die Fragen erläutert:   \n\n\n\n\nWelche sozialpädagogischen Referenzberufe gibt es in Deutschland? \n\n\n\nWelche Voraussetzungen und Bedingungen gibt es für die Anerkennung der sozialpädagogischen Berufe? \n\n\n\nWelche Ergebnisse sind bei der Anerkennung zu erwarten? \n\n\n\n\nDie Beraterin wird die Fragen der Teilnehmer*innen beantworten.   \n\n\n\nDie Anmeldung zur Veranstaltung erfolgt über den Link\, der Anmeldeschluss ist am Vortag der Veranstaltung (ca. 24 Stunden vor der Veranstaltung).  \n\n\n\nAchtung! Der ZOOM-Teilnahmelink wird auf die E-Mail Adresse versendet\, die bei der Anmeldung angegeben wurde.  \n\n\n\nDie Online-Beratungen finden im Rahmen des Moduls „Überregionales Kompetenzzentrum zur Anerkennung ukrainischer Berufsabschlüsse“ des Projektes „Fahrplan Anerkennung beruflicher Abschlüsse Plus II“ – FAbA + II – statt.  \n\n\n\n\n\n\n\n\n\n\n	\n		\n		FacebookTwitterLinkedInRedditWhatsappTumblrPinterestVkEmail
URL:https://anerkennung-berufsqualifikationen-ua.de/event/online-soz-paed-berufe-13/
ATTACH;FMTTYPE=image/jpeg:https://anerkennung-berufsqualifikationen-ua.de/wp-content/uploads/2025/06/anya.jpeg
END:VEVENT
BEGIN:VEVENT
DTSTART;TZID=Europe/Berlin:20260130T100000
DTEND;TZID=Europe/Berlin:20260130T120000
DTSTAMP:20260419T164716
CREATED:20260119T123321Z
LAST-MODIFIED:20260119T142211Z
UID:4159-1769767200-1769774400@anerkennung-berufsqualifikationen-ua.de
SUMMARY:Online. Lehrer*innen 
DESCRIPTION:Am 30. Januar 2026 von 10.00 bis 12.00 Uhr findet eine Online-Gruppenberatung zum Thema „Anerkennung für Lehrer*innen“ statt. Die Veranstaltung wird mittels ZOOM-Kommunikationsplattform durchgeführt. Die Teilnahme ist kostenlos. Eine Anmeldung ist erforderlich. Die Sprache der Veranstaltung ist Russisch.  \n\n\n\nIn der Beratung werden die Fragen erläutert:   \n\n\n\n\nWas sind die Anforderungen bei der Lehreranerkennung und wie läuft das Verfahren ab? \n\n\n\nWie findet man die zuständige Stelle heraus? \n\n\n\nWelche Möglichkeiten für die pädagogische Arbeit sind ohne Anerkennung gegeben? \n\n\n\n\nDie Beraterin wird die Fragen der Teilnehmer*innen beantworten.   \n\n\n\nDie Anmeldung zur Veranstaltung erfolgt über den Link\, der Anmeldeschluss ist am Vortag der Veranstaltung (ca. 24 Stunden vor der Veranstaltung).  \n\n\n\nAchtung! Der ZOOM-Teilnahmelink wird auf die E-Mail Adresse versendet\, die bei der Anmeldung angegeben wurde.  \n\n\n\nDie Online-Beratungen finden im Rahmen des Moduls „Überregionales Kompetenzzentrum zur Anerkennung ukrainischer Berufsabschlüsse“ des Projektes „Fahrplan Anerkennung beruflicher Abschlüsse Plus II“ – FAbA + II – statt.  \n\n\n\n\n\n\n\n\n\n\n	\n		\n		FacebookTwitterLinkedInRedditWhatsappTumblrPinterestVkEmail
URL:https://anerkennung-berufsqualifikationen-ua.de/event/online-lehrerinnen-13/
ATTACH;FMTTYPE=image/jpeg:https://anerkennung-berufsqualifikationen-ua.de/wp-content/uploads/2024/09/heisser-august-aktion.jpg
END:VEVENT
END:VCALENDAR