BEGIN:VCALENDAR
VERSION:2.0
PRODID:-//Fahrplan Anerkennung beruflicher Abschlüsse Plus - ECPv6.6.0.2//NONSGML v1.0//EN
CALSCALE:GREGORIAN
METHOD:PUBLISH
X-WR-CALNAME:Fahrplan Anerkennung beruflicher Abschlüsse Plus
X-ORIGINAL-URL:https://anerkennung-berufsqualifikationen-ua.de
X-WR-CALDESC:Events for Fahrplan Anerkennung beruflicher Abschlüsse Plus
REFRESH-INTERVAL;VALUE=DURATION:PT1H
X-Robots-Tag:noindex
X-PUBLISHED-TTL:PT1H
BEGIN:VTIMEZONE
TZID:Europe/Berlin
BEGIN:DAYLIGHT
TZOFFSETFROM:+0100
TZOFFSETTO:+0200
TZNAME:CEST
DTSTART:20260329T010000
END:DAYLIGHT
BEGIN:STANDARD
TZOFFSETFROM:+0200
TZOFFSETTO:+0100
TZNAME:CET
DTSTART:20261025T010000
END:STANDARD
END:VTIMEZONE
BEGIN:VEVENT
DTSTART;TZID=Europe/Berlin:20260210T090000
DTEND;TZID=Europe/Berlin:20260210T170000
DTSTAMP:20260419T163938
CREATED:20260125T133416Z
LAST-MODIFIED:20260125T195316Z
UID:4274-1770714000-1770742800@anerkennung-berufsqualifikationen-ua.de
SUMMARY:Aktion „Können – über die Grenzen hinaus“
DESCRIPTION:Am Dienstag\, den 10. Februar 2026\, um 09:00 Uhr und um 14:00 Uhr findet in Berlin die Aktion „Können – ohne Grenzen“ statt. Die Teilnahme ist kostenlos. Eine Vorregistrierung ist erforderlich. Sprache der Veranstaltung: Russisch. \n\n\n\nWir führen eine Informationsveranstaltung für diejenigen durch\, die im Ausland eine Berufsausbildung gemacht haben und diese in Deutschland anerkennen lassen wollen. Bitte bringen Sie Ihre Bildungsunterlagen mit. \n\n\n\nWir warten auf Sie! Link zur Anmeldung. \n\n\n\nDie Beratungen finden im Rahmen des Projektes „Fahrplan Anerkennung beruflicher Abschlüsse Plus“ – FabA+ – statt.Das Bild wurde mit Hilfe von KI erstellt. \n\n\n\n\n\n\n\n\n\n\n	\n		\n		FacebookTwitterLinkedInRedditWhatsappTumblrPinterestVkEmail
URL:https://anerkennung-berufsqualifikationen-ua.de/event/aktion-koennen-ueber-die-grenzen-hinaus-5/
ATTACH;FMTTYPE=image/png:https://anerkennung-berufsqualifikationen-ua.de/wp-content/uploads/2025/08/chatgpt-image-14-avg.-2025-g.-13_38_59.png
END:VEVENT
END:VCALENDAR