BEGIN:VCALENDAR
VERSION:2.0
PRODID:-//Fahrplan Anerkennung beruflicher Abschlüsse Plus - ECPv6.6.0.2//NONSGML v1.0//EN
CALSCALE:GREGORIAN
METHOD:PUBLISH
X-ORIGINAL-URL:https://anerkennung-berufsqualifikationen-ua.de
X-WR-CALDESC:Events for Fahrplan Anerkennung beruflicher Abschlüsse Plus
REFRESH-INTERVAL;VALUE=DURATION:PT1H
X-Robots-Tag:noindex
X-PUBLISHED-TTL:PT1H
BEGIN:VTIMEZONE
TZID:Europe/Berlin
BEGIN:DAYLIGHT
TZOFFSETFROM:+0100
TZOFFSETTO:+0200
TZNAME:CEST
DTSTART:20250330T010000
END:DAYLIGHT
BEGIN:STANDARD
TZOFFSETFROM:+0200
TZOFFSETTO:+0100
TZNAME:CET
DTSTART:20251026T010000
END:STANDARD
END:VTIMEZONE
BEGIN:VEVENT
DTSTART;TZID=Europe/Berlin:20251208T100000
DTEND;TZID=Europe/Berlin:20251208T150000
DTSTAMP:20260419T203102
CREATED:20251025T104558Z
LAST-MODIFIED:20251126T152731Z
UID:4011-1765188000-1765206000@anerkennung-berufsqualifikationen-ua.de
SUMMARY:Tag der offenen Tür des Projekts FAbA+
DESCRIPTION:Am Montag\, den 8. Dezember 2025\, von 10:00 bis 15:00 Uhr findet in Berlin der Tag der offenen Tür des Projekts „Fahrplan Anerkennung beruflicher Abschlüsse Plus“ – FAbA+ statt. Die Teilnahme ist kostenlos. Sprachen der Veranstaltung: Deutsch\, Russisch\, Ukrainisch. \n\n\n\nVielleicht haben wir uns schon in diesem Jahr kennengelernt und Sie haben eine Beratung zur Anerkennung Ihrer beruflichen Qualifikation erhalten – aber es sind neue Fragen aufgetaucht oder Sie möchten Ihre Erfahrungen und Erfolge teilen?Oder interessieren Sie sich für das Thema Anerkennung\, haben aber noch keine Beratung in Anspruch genommen?Dann kommen Sie vorbei und lernen Sie das Projekt und sein Team kennen! \n\n\n\n(Das Bild wurde mit Hilfe von KI erstellt.) \n\n\n\n\n\n\n\n\n\n\n	\n		\n		FacebookTwitterLinkedInRedditWhatsappTumblrPinterestVkEmail
URL:https://anerkennung-berufsqualifikationen-ua.de/event/tag-der-offenen-tuer-des-projekts-faba/
ATTACH;FMTTYPE=image/png:https://anerkennung-berufsqualifikationen-ua.de/wp-content/uploads/2025/10/chatgpt_faba.png
END:VEVENT
END:VCALENDAR